BEGIN:VCALENDAR
VERSION:2.0
PRODID:-//DebbieDoesIT - ECPv5.4.0//NONSGML v1.0//EN
CALSCALE:GREGORIAN
METHOD:PUBLISH
X-WR-CALNAME:DebbieDoesIT
X-ORIGINAL-URL:http://www.debbiedoesit.com.au
X-WR-CALDESC:Events for DebbieDoesIT
BEGIN:VTIMEZONE
TZID:Australia/Sydney
BEGIN:STANDARD
TZOFFSETFROM:+1100
TZOFFSETTO:+1000
TZNAME:AEST
DTSTART:20180331T160000
END:STANDARD
BEGIN:DAYLIGHT
TZOFFSETFROM:+1000
TZOFFSETTO:+1100
TZNAME:AEDT
DTSTART:20181006T160000
END:DAYLIGHT
END:VTIMEZONE
BEGIN:VEVENT
DTSTART;TZID=Australia/Sydney:20180516T173000
DTEND;TZID=Australia/Sydney:20180516T190000
DTSTAMP:20210301T052901
CREATED:20180118T043241Z
LAST-MODIFIED:20180316T001009Z
UID:692-1526491800-1526497200@www.debbiedoesit.com.au
SUMMARY:Photo to Frame - Week 3 Evening Session
DESCRIPTION:This session we will investigate some of the Apps that we can use with our Camera. From being able to scan to being able to digitise the family albums. There is over 2 million Apps but don’t worry I have just chosen a few that I find quite useful.
URL:http://www.debbiedoesit.com.au/workshops_calendar/photo-frame-week-3-evening-session/
LOCATION:Galston Club\, 21-25 Arcadia Road\, Galston\, NSW\, 2159\, Australia
CATEGORIES:From Photo to Frame
END:VEVENT
END:VCALENDAR